!table
!version 300
!charset WindowsLatin1

Definition Table
  File "1945_94.sid"
  Type "RASTER"
  (2423001,1369999) (0,0) Label "Pt 1",
  (2453001,1369999) (15000,0) Label "Pt 2",
  (2453001,1341823) (15000,14088) Label "Pt 3",
  (2423001,1341823) (0,14088) Label "Pt 4"
  CoordSys Earth Projection 8, 74, "survey ft", -110.0833333333, 40.5, 0.9999375, 2624666.6669999999, 328083.3333
  Units "survey ft"
