!table
!version 300
!charset WindowsLatin1

Definition Table
  File "1945_81.sid"
  Type "RASTER"
  (2513001,1429999) (0,0) Label "Pt 1",
  (2543001,1429999) (15000,0) Label "Pt 2",
  (2543001,1399999) (15000,15000) Label "Pt 3",
  (2513001,1399999) (0,15000) Label "Pt 4"
  CoordSys Earth Projection 8, 74, "survey ft", -110.0833333333, 40.5, 0.9999375, 2624666.6669999999, 328083.3333
  Units "survey ft"
