!table
!version 300
!charset WindowsLatin1

Definition Table
  File "1945_38.sid"
  Type "RASTER"
  (2453001,1549999) (0,0) Label "Pt 1",
  (2483001,1549999) (15000,0) Label "Pt 2",
  (2483001,1519999) (15000,15000) Label "Pt 3",
  (2453001,1519999) (0,15000) Label "Pt 4"
  CoordSys Earth Projection 8, 74, "survey ft", -110.0833333333, 40.5, 0.9999375, 2624666.6669999999, 328083.3333
  Units "survey ft"
