!table
!version 300
!charset WindowsLatin1

Definition Table
  File "1945_06.sid"
  Type "RASTER"
  (2483001,1674901) (0,0) Label "Pt 1",
  (2513001,1674901) (15000,0) Label "Pt 2",
  (2513001,1639999) (15000,17451) Label "Pt 3",
  (2483001,1639999) (0,17451) Label "Pt 4"
  CoordSys Earth Projection 8, 74, "survey ft", -110.0833333333, 40.5, 0.9999375, 2624666.6669999999, 328083.3333
  Units "survey ft"
